Workbook

Sheet Schedule
A1: Home loan amortisation schedule
A2: Change the yellow cells. Everything else updates. Free from loancheckup.in. Estimates only: your lender's statement is the final word.
A4: Loan amount (₹) | C4: 5000000
A5: Interest rate (% a year) | C5: 8.5
A6: Tenure (years) | C6: 20
A7: First EMI date | C7: 46331
A8: Extra payment every month (₹, optional) | C8: 0
A9: Results
A10: Monthly EMI (₹) | C10: =IF(C5=0,C4/(C6*12),C4*(C5/1200)/(1-(1+C5/1200)^-(C6*12)))
A11: Total interest with no extra payment (₹) | C11: =C10*C6*12-C4
A12: Total interest with your extra payment (₹) | C12: =SUM($E$18:$E$497)
A13: Interest saved by the extra payment (₹) | C13: =C11-C12
A14: Months to finish the loan | C14: =COUNT($A$18:$A$497)
A15: Months saved by the extra payment | C15: =C6*12-C14
A17: Month | B17: Date | C17: Opening balance | D17: EMI paid | E17: Interest | F17: Principal | G17: Extra payment | H17: Closing balance | I17: Year
A18: =IF(C18>0.005,1,"") | B18: =IF(A18="","",EDATE($C$7,1-1)) | C18: =$C$4 | D18: =IF(C18>0.005,IF(C18+E18-$C$10<1,C18+E18,$C$10),0) | E18: =IF(C18>0.005,C18*$C$5/1200,0) | F18: =IF(C18>0.005,D18-E18,0) | G18: =IF(C18>0.005,MIN($C$8,C18-F18),0) | H18: =IF(C18>0.005,C18-F18-G18,0) | I18: =IF(A18="","",INT((1-1)/12)+1)
A19: =IF(C19>0.005,2,"") | B19: =IF(A19="","",EDATE($C$7,2-1)) | C19: =H18 | D19: =IF(C19>0.005,IF(C19+E19-$C$10<1,C19+E19,$C$10),0) | E19: =IF(C19>0.005,C19*$C$5/1200,0) | F19: =IF(C19>0.005,D19-E19,0) | G19: =IF(C19>0.005,MIN($C$8,C19-F19),0) | H19: =IF(C19>0.005,C19-F19-G19,0) | I19: =IF(A19="","",INT((2-1)/12)+1)
A20: =IF(C20>0.005,3,"") | B20: =IF(A20="","",EDATE($C$7,3-1)) | C20: =H19 | D20: =IF(C20>0.005,IF(C20+E20-$C$10<1,C20+E20,$C$10),0) | E20: =IF(C20>0.005,C20*$C$5/1200,0) | F20: =IF(C20>0.005,D20-E20,0) | G20: =IF(C20>0.005,MIN($C$8,C20-F20),0) | H20: =IF(C20>0.005,C20-F20-G20,0) | I20: =IF(A20="","",INT((3-1)/12)+1)
A21: =IF(C21>0.005,4,"") | B21: =IF(A21="","",EDATE($C$7,4-1)) | C21: =H20 | D21: =IF(C21>0.005,IF(C21+E21-$C$10<1,C21+E21,$C$10),0) | E21: =IF(C21>0.005,C21*$C$5/1200,0) | F21: =IF(C21>0.005,D21-E21,0) | G21: =IF(C21>0.005,MIN($C$8,C21-F21),0) | H21: =IF(C21>0.005,C21-F21-G21,0) | I21: =IF(A21="","",INT((4-1)/12)+1)
A22: =IF(C22>0.005,5,"") | B22: =IF(A22="","",EDATE($C$7,5-1)) | C22: =H21 | D22: =IF(C22>0.005,IF(C22+E22-$C$10<1,C22+E22,$C$10),0) | E22: =IF(C22>0.005,C22*$C$5/1200,0) | F22: =IF(C22>0.005,D22-E22,0) | G22: =IF(C22>0.005,MIN($C$8,C22-F22),0) | H22: =IF(C22>0.005,C22-F22-G22,0) | I22: =IF(A22="","",INT((5-1)/12)+1)
A23: =IF(C23>0.005,6,"") | B23: =IF(A23="","",EDATE($C$7,6-1)) | C23: =H22 | D23: =IF(C23>0.005,IF(C23+E23-$C$10<1,C23+E23,$C$10),0) | E23: =IF(C23>0.005,C23*$C$5/1200,0) | F23: =IF(C23>0.005,D23-E23,0) | G23: =IF(C23>0.005,MIN($C$8,C23-F23),0) | H23: =IF(C23>0.005,C23-F23-G23,0) | I23: =IF(A23="","",INT((6-1)/12)+1)
A24: =IF(C24>0.005,7,"") | B24: =IF(A24="","",EDATE($C$7,7-1)) | C24: =H23 | D24: =IF(C24>0.005,IF(C24+E24-$C$10<1,C24+E24,$C$10),0) | E24: =IF(C24>0.005,C24*$C$5/1200,0) | F24: =IF(C24>0.005,D24-E24,0) | G24: =IF(C24>0.005,MIN($C$8,C24-F24),0) | H24: =IF(C24>0.005,C24-F24-G24,0) | I24: =IF(A24="","",INT((7-1)/12)+1)
A25: =IF(C25>0.005,8,"") | B25: =IF(A25="","",EDATE($C$7,8-1)) | C25: =H24 | D25: =IF(C25>0.005,IF(C25+E25-$C$10<1,C25+E25,$C$10),0) | E25: =IF(C25>0.005,C25*$C$5/1200,0) | F25: =IF(C25>0.005,D25-E25,0) | G25: =IF(C25>0.005,MIN($C$8,C25-F25),0) | H25: =IF(C25>0.005,C25-F25-G25,0) | I25: =IF(A25="","",INT((8-1)/12)+1)
A26: =IF(C26>0.005,9,"") | B26: =IF(A26="","",EDATE($C$7,9-1)) | C26: =H25 | D26: =IF(C26>0.005,IF(C26+E26-$C$10<1,C26+E26,$C$10),0) | E26: =IF(C26>0.005,C26*$C$5/1200,0) | F26: =IF(C26>0.005,D26-E26,0) | G26: =IF(C26>0.005,MIN($C$8,C26-F26),0) | H26: =IF(C26>0.005,C26-F26-G26,0) | I26: =IF(A26="","",INT((9-1)/12)+1)
A27: =IF(C27>0.005,10,"") | B27: =IF(A27="","",EDATE($C$7,10-1)) | C27: =H26 | D27: =IF(C27>0.005,IF(C27+E27-$C$10<1,C27+E27,$C$10),0) | E27: =IF(C27>0.005,C27*$C$5/1200,0) | F27: =IF(C27>0.005,D27-E27,0) | G27: =IF(C27>0.005,MIN($C$8,C27-F27),0) | H27: =IF(C27>0.005,C27-F27-G27,0) | I27: =IF(A27="","",INT((10-1)/12)+1)
A28: =IF(C28>0.005,11,"") | B28: =IF(A28="","",EDATE($C$7,11-1)) | C28: =H27 | D28: =IF(C28>0.005,IF(C28+E28-$C$10<1,C28+E28,$C$10),0) | E28: =IF(C28>0.005,C28*$C$5/1200,0) | F28: =IF(C28>0.005,D28-E28,0) | G28: =IF(C28>0.005,MIN($C$8,C28-F28),0) | H28: =IF(C28>0.005,C28-F28-G28,0) | I28: =IF(A28="","",INT((11-1)/12)+1)
A29: =IF(C29>0.005,12,"") | B29: =IF(A29="","",EDATE($C$7,12-1)) | C29: =H28 | D29: =IF(C29>0.005,IF(C29+E29-$C$10<1,C29+E29,$C$10),0) | E29: =IF(C29>0.005,C29*$C$5/1200,0) | F29: =IF(C29>0.005,D29-E29,0) | G29: =IF(C29>0.005,MIN($C$8,C29-F29),0) | H29: =IF(C29>0.005,C29-F29-G29,0) | I29: =IF(A29="","",INT((12-1)/12)+1)
A30: =IF(C30>0.005,13,"") | B30: =IF(A30="","",EDATE($C$7,13-1)) | C30: =H29 | D30: =IF(C30>0.005,IF(C30+E30-$C$10<1,C30+E30,$C$10),0) | E30: =IF(C30>0.005,C30*$C$5/1200,0) | F30: =IF(C30>0.005,D30-E30,0) | G30: =IF(C30>0.005,MIN($C$8,C30-F30),0) | H30: =IF(C30>0.005,C30-F30-G30,0) | I30: =IF(A30="","",INT((13-1)/12)+1)
A31: =IF(C31>0.005,14,"") | B31: =IF(A31="","",EDATE($C$7,14-1)) | C31: =H30 | D31: =IF(C31>0.005,IF(C31+E31-$C$10<1,C31+E31,$C$10),0) | E31: =IF(C31>0.005,C31*$C$5/1200,0) | F31: =IF(C31>0.005,D31-E31,0) | G31: =IF(C31>0.005,MIN($C$8,C31-F31),0) | H31: =IF(C31>0.005,C31-F31-G31,0) | I31: =IF(A31="","",INT((14-1)/12)+1)
A32: =IF(C32>0.005,15,"") | B32: =IF(A32="","",EDATE($C$7,15-1)) | C32: =H31 | D32: =IF(C32>0.005,IF(C32+E32-$C$10<1,C32+E32,$C$10),0) | E32: =IF(C32>0.005,C32*$C$5/1200,0) | F32: =IF(C32>0.005,D32-E32,0) | G32: =IF(C32>0.005,MIN($C$8,C32-F32),0) | H32: =IF(C32>0.005,C32-F32-G32,0) | I32: =IF(A32="","",INT((15-1)/12)+1)
A33: =IF(C33>0.005,16,"") | B33: =IF(A33="","",EDATE($C$7,16-1)) | C33: =H32 | D33: =IF(C33>0.005,IF(C33+E33-$C$10<1,C33+E33,$C$10),0) | E33: =IF(C33>0.005,C33*$C$5/1200,0) | F33: =IF(C33>0.005,D33-E33,0) | G33: =IF(C33>0.005,MIN($C$8,C33-F33),0) | H33: =IF(C33>0.005,C33-F33-G33,0) | I33: =IF(A33="","",INT((16-1)/12)+1)
A34: =IF(C34>0.005,17,"") | B34: =IF(A34="","",EDATE($C$7,17-1)) | C34: =H33 | D34: =IF(C34>0.005,IF(C34+E34-$C$10<1,C34+E34,$C$10),0) | E34: =IF(C34>0.005,C34*$C$5/1200,0) | F34: =IF(C34>0.005,D34-E34,0) | G34: =IF(C34>0.005,MIN($C$8,C34-F34),0) | H34: =IF(C34>0.005,C34-F34-G34,0) | I34: =IF(A34="","",INT((17-1)/12)+1)
A35: =IF(C35>0.005,18,"") | B35: =IF(A35="","",EDATE($C$7,18-1)) | C35: =H34 | D35: =IF(C35>0.005,IF(C35+E35-$C$10<1,C35+E35,$C$10),0) | E35: =IF(C35>0.005,C35*$C$5/1200,0) | F35: =IF(C35>0.005,D35-E35,0) | G35: =IF(C35>0.005,MIN($C$8,C35-F35),0) | H35: =IF(C35>0.005,C35-F35-G35,0) | I35: =IF(A35="","",INT((18-1)/12)+1)
A36: =IF(C36>0.005,19,"") | B36: =IF(A36="","",EDATE($C$7,19-1)) | C36: =H35 | D36: =IF(C36>0.005,IF(C36+E36-$C$10<1,C36+E36,$C$10),0) | E36: =IF(C36>0.005,C36*$C$5/1200,0) | F36: =IF(C36>0.005,D36-E36,0) | G36: =IF(C36>0.005,MIN($C$8,C36-F36),0) | H36: =IF(C36>0.005,C36-F36-G36,0) | I36: =IF(A36="","",INT((19-1)/12)+1)
A37: =IF(C37>0.005,20,"") | B37: =IF(A37="","",EDATE($C$7,20-1)) | C37: =H36 | D37: =IF(C37>0.005,IF(C37+E37-$C$10<1,C37+E37,$C$10),0) | E37: =IF(C37>0.005,C37*$C$5/1200,0) | F37: =IF(C37>0.005,D37-E37,0) | G37: =IF(C37>0.005,MIN($C$8,C37-F37),0) | H37: =IF(C37>0.005,C37-F37-G37,0) | I37: =IF(A37="","",INT((20-1)/12)+1)
A38: =IF(C38>0.005,21,"") | B38: =IF(A38="","",EDATE($C$7,21-1)) | C38: =H37 | D38: =IF(C38>0.005,IF(C38+E38-$C$10<1,C38+E38,$C$10),0) | E38: =IF(C38>0.005,C38*$C$5/1200,0) | F38: =IF(C38>0.005,D38-E38,0) | G38: =IF(C38>0.005,MIN($C$8,C38-F38),0) | H38: =IF(C38>0.005,C38-F38-G38,0) | I38: =IF(A38="","",INT((21-1)/12)+1)
A39: =IF(C39>0.005,22,"") | B39: =IF(A39="","",EDATE($C$7,22-1)) | C39: =H38 | D39: =IF(C39>0.005,IF(C39+E39-$C$10<1,C39+E39,$C$10),0) | E39: =IF(C39>0.005,C39*$C$5/1200,0) | F39: =IF(C39>0.005,D39-E39,0) | G39: =IF(C39>0.005,MIN($C$8,C39-F39),0) | H39: =IF(C39>0.005,C39-F39-G39,0) | I39: =IF(A39="","",INT((22-1)/12)+1)
A40: =IF(C40>0.005,23,"") | B40: =IF(A40="","",EDATE($C$7,23-1)) | C40: =H39 | D40: =IF(C40>0.005,IF(C40+E40-$C$10<1,C40+E40,$C$10),0) | E40: =IF(C40>0.005,C40*$C$5/1200,0) | F40: =IF(C40>0.005,D40-E40,0) | G40: =IF(C40>0.005,MIN($C$8,C40-F40),0) | H40: =IF(C40>0.005,C40-F40-G40,0) | I40: =IF(A40="","",INT((23-1)/12)+1)
A41: =IF(C41>0.005,24,"") | B41: =IF(A41="","",EDATE($C$7,24-1)) | C41: =H40 | D41: =IF(C41>0.005,IF(C41+E41-$C$10<1,C41+E41,$C$10),0) | E41: =IF(C41>0.005,C41*$C$5/1200,0) | F41: =IF(C41>0.005,D41-E41,0) | G41: =IF(C41>0.005,MIN($C$8,C41-F41),0) | H41: =IF(C41>0.005,C41-F41-G41,0) | I41: =IF(A41="","",INT((24-1)/12)+1)
A42: =IF(C42>0.005,25,"") | B42: =IF(A42="","",EDATE($C$7,25-1)) | C42: =H41 | D42: =IF(C42>0.005,IF(C42+E42-$C$10<1,C42+E42,$C$10),0) | E42: =IF(C42>0.005,C42*$C$5/1200,0) | F42: =IF(C42>0.005,D42-E42,0) | G42: =IF(C42>0.005,MIN($C$8,C42-F42),0) | H42: =IF(C42>0.005,C42-F42-G42,0) | I42: =IF(A42="","",INT((25-1)/12)+1)
...

Sheet Yearly summary
A1: Year by year
A2: Early years are mostly interest. Look at how the split flips as the years pass.
A4: Year | B4: Interest paid | C4: Principal repaid | D4: Total paid | E4: Balance at year end
A5: 1 | B5: =SUMIFS(Schedule!$E$18:$E$497,Schedule!$I$18:$I$497,A5) | C5: =SUMIFS(Schedule!$F$18:$F$497,Schedule!$I$18:$I$497,A5)+SUMIFS(Schedule!$G$18:$G$497,Schedule!$I$18:$I$497,A5) | D5: =B5+C5 | E5: =IFERROR(INDEX(Schedule!$H$18:$H$497,MATCH(A5*12,Schedule!$A$18:$A$497,0)),0)
A6: 2 | B6: =SUMIFS(Schedule!$E$18:$E$497,Schedule!$I$18:$I$497,A6) | C6: =SUMIFS(Schedule!$F$18:$F$497,Schedule!$I$18:$I$497,A6)+SUMIFS(Schedule!$G$18:$G$497,Schedule!$I$18:$I$497,A6) | D6: =B6+C6 | E6: =IFERROR(INDEX(Schedule!$H$18:$H$497,MATCH(A6*12,Schedule!$A$18:$A$497,0)),0)
A7: 3 | B7: =SUMIFS(Schedule!$E$18:$E$497,Schedule!$I$18:$I$497,A7) | C7: =SUMIFS(Schedule!$F$18:$F$497,Schedule!$I$18:$I$497,A7)+SUMIFS(Schedule!$G$18:$G$497,Schedule!$I$18:$I$497,A7) | D7: =B7+C7 | E7: =IFERROR(INDEX(Schedule!$H$18:$H$497,MATCH(A7*12,Schedule!$A$18:$A$497,0)),0)
A8: 4 | B8: =SUMIFS(Schedule!$E$18:$E$497,Schedule!$I$18:$I$497,A8) | C8: =SUMIFS(Schedule!$F$18:$F$497,Schedule!$I$18:$I$497,A8)+SUMIFS(Schedule!$G$18:$G$497,Schedule!$I$18:$I$497,A8) | D8: =B8+C8 | E8: =IFERROR(INDEX(Schedule!$H$18:$H$497,MATCH(A8*12,Schedule!$A$18:$A$497,0)),0)
A9: 5 | B9: =SUMIFS(Schedule!$E$18:$E$497,Schedule!$I$18:$I$497,A9) | C9: =SUMIFS(Schedule!$F$18:$F$497,Schedule!$I$18:$I$497,A9)+SUMIFS(Schedule!$G$18:$G$497,Schedule!$I$18:$I$497,A9) | D9: =B9+C9 | E9: =IFERROR(INDEX(Schedule!$H$18:$H$497,MATCH(A9*12,Schedule!$A$18:$A$497,0)),0)
A10: 6 | B10: =SUMIFS(Schedule!$E$18:$E$497,Schedule!$I$18:$I$497,A10) | C10: =SUMIFS(Schedule!$F$18:$F$497,Schedule!$I$18:$I$497,A10)+SUMIFS(Schedule!$G$18:$G$497,Schedule!$I$18:$I$497,A10) | D10: =B10+C10 | E10: =IFERROR(INDEX(Schedule!$H$18:$H$497,MATCH(A10*12,Schedule!$A$18:$A$497,0)),0)
A11: 7 | B11: =SUMIFS(Schedule!$E$18:$E$497,Schedule!$I$18:$I$497,A11) | C11: =SUMIFS(Schedule!$F$18:$F$497,Schedule!$I$18:$I$497,A11)+SUMIFS(Schedule!$G$18:$G$497,Schedule!$I$18:$I$497,A11) | D11: =B11+C11 | E11: =IFERROR(INDEX(Schedule!$H$18:$H$497,MATCH(A11*12,Schedule!$A$18:$A$497,0)),0)
A12: 8 | B12: =SUMIFS(Schedule!$E$18:$E$497,Schedule!$I$18:$I$497,A12) | C12: =SUMIFS(Schedule!$F$18:$F$497,Schedule!$I$18:$I$497,A12)+SUMIFS(Schedule!$G$18:$G$497,Schedule!$I$18:$I$497,A12) | D12: =B12+C12 | E12: =IFERROR(INDEX(Schedule!$H$18:$H$497,MATCH(A12*12,Schedule!$A$18:$A$497,0)),0)
A13: 9 | B13: =SUMIFS(Schedule!$E$18:$E$497,Schedule!$I$18:$I$497,A13) | C13: =SUMIFS(Schedule!$F$18:$F$497,Schedule!$I$18:$I$497,A13)+SUMIFS(Schedule!$G$18:$G$497,Schedule!$I$18:$I$497,A13) | D13: =B13+C13 | E13: =IFERROR(INDEX(Schedule!$H$18:$H$497,MATCH(A13*12,Schedule!$A$18:$A$497,0)),0)
A14: 10 | B14: =SUMIFS(Schedule!$E$18:$E$497,Schedule!$I$18:$I$497,A14) | C14: =SUMIFS(Schedule!$F$18:$F$497,Schedule!$I$18:$I$497,A14)+SUMIFS(Schedule!$G$18:$G$497,Schedule!$I$18:$I$497,A14) | D14: =B14+C14 | E14: =IFERROR(INDEX(Schedule!$H$18:$H$497,MATCH(A14*12,Schedule!$A$18:$A$497,0)),0)
A15: 11 | B15: =SUMIFS(Schedule!$E$18:$E$497,Schedule!$I$18:$I$497,A15) | C15: =SUMIFS(Schedule!$F$18:$F$497,Schedule!$I$18:$I$497,A15)+SUMIFS(Schedule!$G$18:$G$497,Schedule!$I$18:$I$497,A15) | D15: =B15+C15 | E15: =IFERROR(INDEX(Schedule!$H$18:$H$497,MATCH(A15*12,Schedule!$A$18:$A$497,0)),0)
A16: 12 | B16: =SUMIFS(Schedule!$E$18:$E$497,Schedule!$I$18:$I$497,A16) | C16: =SUMIFS(Schedule!$F$18:$F$497,Schedule!$I$18:$I$497,A16)+SUMIFS(Schedule!$G$18:$G$497,Schedule!$I$18:$I$497,A16) | D16: =B16+C16 | E16: =IFERROR(INDEX(Schedule!$H$18:$H$497,MATCH(A16*12,Schedule!$A$18:$A$497,0)),0)
... A44: 40 | B44: =SUMIFS(Schedule!$E$18:$E$497,Schedule!$I$18:$I$497,A44) | C44: =SUMIFS(Schedule!$F$18:$F$497,Schedule!$I$18:$I$497,A44)+SUMIFS(Schedule!$G$18:$G$497,Schedule!$I$18:$I$497,A44) | D44: =B44+C44 | E44: =IFERROR(INDEX(Schedule!$H$18:$H$497,MATCH(A44*12,Schedule!$A$18:$A$497,0)),0)

Sheet How to use
A1: How to use this sheet
A2: 1. On the Schedule sheet, type your loan amount, yearly rate and tenure in the yellow cells. Use the outstanding amount and remaining years if the loan is already running.
A3: 2. Put the date of your next EMI in "First EMI date".
A4: 3. To see what extra payments do, type a monthly extra amount. Results show the interest saved and the months saved.
A5: 4. The Yearly summary sheet adds up each year. The Schedule sheet shades every 12th month so you can find year ends.
A7: What this sheet does not do
A8: It uses a flat rate for the whole loan. If your rate is floating and has changed, enter your current rate and remaining tenure.
A9: Banks round to the paisa and may count days, so your lender's statement can differ by a small amount. Ask for the statement if the gap is large.
A10: It does not include fees, insurance or prepayment charges.
A12: Check your own loan for free: loancheckup.in | Not financial advice.
